BEGIN:VCALENDAR
VERSION:2.0
PRODID:-//wp-events-plugin.com//7.2.3.1//EN
TZID:Australia/Sydney
X-WR-TIMEZONE:Australia/Sydney
BEGIN:VEVENT
UID:27@medicolegal.org.au
DTSTART;TZID=Australia/Sydney:20200916T180000
DTEND;TZID=Australia/Sydney:20200916T190000
DTSTAMP:20200915T040218Z
URL:https://medicolegal.org.au/events/webinar-artificial-intelligence-mach
 ine-learning-and-medical-practice/
SUMMARY:Webinar - Artificial Intelligence\, Machine Learning and Medical Pr
 actice
DESCRIPTION:Scientific Meeting Webinar  ‘Artificial Intelligence\, Mach
 ine Learning and Medical Practice'\nWednesday 16 September 2020 6pm - 7pm\
 nGuest speakers:  Dr Sandra Johnson and Katherine Richardson SC (Click h
 ere for Biographies)\n\nWe invite you to join the live Webinar and ask que
 stions.  Philip Truskett\, Medical Secretary of the Medico-Legal Society 
 of NSW will MC the evening and Kate Gillman\, Assistant Legal Secretary of
   Medico-Legal Society of NSW will take the Q&amp\;A.\n\nThis event is fr
 ee but registration is essential.  Please register below and you will be 
 sent your individual link on the 15th September\, Each person attending wi
 ll receive a unique registration link.\n\nIf you can not attend on the eve
 ning but would like to view the webinar at a later date\, please still reg
 ister\, as all registered participants will be sent a link to view the web
 inar on the 17th September.
CATEGORIES:Scientific Meeting via Webinar,Scientific Meetings
LOCATION:The comfort of your own home - Link via Zoom\, GPO Box 1741\, Sydn
 ey\, Australia
X-APPLE-STRUCTURED-LOCATION;VALUE=URI;X-ADDRESS=GPO Box 1741\, Sydney\, Aus
 tralia;X-APPLE-RADIUS=100;X-TITLE=The comfort of your own home - Link via 
 Zoom:geo:0,0
END:VEVENT
BEGIN:VTIMEZONE
TZID:Australia/Sydney
X-LIC-LOCATION:Australia/Sydney
BEGIN:STANDARD
DTSTART:20200405T020000
TZOFFSETFROM:+1100
TZOFFSETTO:+1000
TZNAME:AEST
END:STANDARD
END:VTIMEZONE
END:VCALENDAR