BEGIN:VCALENDAR
VERSION:2.0
PRODID:-//wp-events-plugin.com//7.2.3.1//EN
TZID:Australia/Sydney
X-WR-TIMEZONE:Australia/Sydney
BEGIN:VEVENT
UID:61@medicolegal.org.au
DTSTART;TZID=Australia/Sydney:20241113T180000
DTEND;TZID=Australia/Sydney:20241113T213000
DTSTAMP:20241016T042152Z
URL:https://medicolegal.org.au/events/the-year-in-review/
SUMMARY:The Year in Review
DESCRIPTION:Scientific Meeting and Dinner - The Year in Review\n\nSpeakers:
  Dr Joe Lizzio and Hilbert Chiu SC\n\n 	Please register below.\n 	If you a
 re paying via Credit card complete the booking form\n 	If paying via EFT p
 lease pay to the Medico Legal Society using the surname that the booking w
 as made in as a reference\, and send a copy of the payment advise to execu
 tive@medicolegal.org.au.\n 	Bookings will only be confirmed once payment i
 s received and processed.\n\nBooking Form - Please book below and complete
  this form if paying by Credit Card.
CATEGORIES:Scientific Meetings
LOCATION:Union University and Schools Club of Sydney (UUSC)\, 25 Bent St\, 
 Sydney\, NSW\, 2000\, Australia
GEO:-33.8650727;151.21129559999997
X-APPLE-STRUCTURED-LOCATION;VALUE=URI;X-ADDRESS=25 Bent St\, Sydney\, NSW\,
  2000\, Australia;X-APPLE-RADIUS=100;X-TITLE=Union University and Schools 
 Club of Sydney (UUSC):geo:-33.8650727,151.21129559999997
END:VEVENT
BEGIN:VTIMEZONE
TZID:Australia/Sydney
X-LIC-LOCATION:Australia/Sydney
BEGIN:DAYLIGHT
DTSTART:20241006T030000
TZOFFSETFROM:+1000
TZOFFSETTO:+1100
TZNAME:AEDT
END:DAYLIGHT
END:VTIMEZONE
END:VCALENDAR