BEGIN:VCALENDAR
VERSION:2.0
PRODID:-//wp-events-plugin.com//7.2.3.1//EN
TZID:Australia/Sydney
X-WR-TIMEZONE:Australia/Sydney
BEGIN:VEVENT
UID:48@medicolegal.org.au
DTSTART;TZID=Australia/Sydney:20230322T180000
DTEND;TZID=Australia/Sydney:20230322T220000
DTSTAMP:20230314T044936Z
URL:https://medicolegal.org.au/events/the-rights-of-the-elite-athlete-a-pa
 nel-discussion/
SUMMARY:The Rights of the Elite Athlete\, a Panel Discussion
DESCRIPTION:[vc_row][vc_column][vc_column_text]Scientific Meeting &amp\;  
 Dinner ‘The Rights of the Elite Athlete a Panel Discussion'\nWednesday 
 22 March 2023\nGuest speakers: Dr Sharron Flahive\,  Jamie Pandaram and T
 ony O’Reilly\n\n\n\n&nbsp\;\n\n&nbsp\;\n\n&nbsp\;\n\n&nbsp\;\n\n&nbsp\;\
 n\n&nbsp\;\n\n&nbsp\;\n\n&nbsp\;\n\n&nbsp\;\n6.00pm  UUSC Members Dining 
  Room. Includes set menu &amp\; beverages $110 for members\; $125 for gues
 ts &amp\; non-members.  Member are able to come along to the meeting with
 out attending the Dinner\, please register for the meeting alone.\nPlaces 
 are limited so please book early to avoid missing out  and no later than
  Monday 13th March 2020 at 5pm.   Unfortunately we can not accept booki
 ngs after this time.\n\nThe dress code at UUSC  ‘Modern Professional’
  https://uusc.com.au/the-club/dress-code/ Suit jacket and collared shirt a
 re to be worn by gentlemen\, and ‘coat &amp\; tie’ on level 1 &amp\; 2
 .  Mobile phones and other devices must be switched to silent.\n\nThe Pan
 el: Dr Sharron Flahive\, Tony O'Reilly and Jamie Pandaram\n\nUnfortunat
 ely online Credit Card Payments are not working at this stage\, so if you 
 want to pay by credit card\, you need to complete the attached form as wel
 l and completing registration below.  Credit Card Payment Form[/vc_column
 _text][/vc_column][/vc_row]
CATEGORIES:Scientific Meetings
LOCATION:Union University and Schools Club of Sydney (UUSC)\, 25 Bent St\, 
 Sydney\, NSW\, 2000\, Australia
GEO:-33.8650727;151.21129559999997
X-APPLE-STRUCTURED-LOCATION;VALUE=URI;X-ADDRESS=25 Bent St\, Sydney\, NSW\,
  2000\, Australia;X-APPLE-RADIUS=100;X-TITLE=Union University and Schools 
 Club of Sydney (UUSC):geo:-33.8650727,151.21129559999997
END:VEVENT
BEGIN:VTIMEZONE
TZID:Australia/Sydney
X-LIC-LOCATION:Australia/Sydney
BEGIN:DAYLIGHT
DTSTART:20221002T030000
TZOFFSETFROM:+1000
TZOFFSETTO:+1100
TZNAME:AEDT
END:DAYLIGHT
END:VTIMEZONE
END:VCALENDAR