BEGIN:VCALENDAR
VERSION:2.0
PRODID:-//wp-events-plugin.com//7.2.3.1//EN
TZID:Australia/Sydney
X-WR-TIMEZONE:Australia/Sydney
BEGIN:VEVENT
UID:46@medicolegal.org.au
DTSTART;TZID=Australia/Sydney:20221210T180000
DTEND;TZID=Australia/Sydney:20221210T220000
DTSTAMP:20221102T062004Z
URL:https://medicolegal.org.au/events/the-australasian-college-of-legal-me
 dicine-sydney-dinner/
SUMMARY:The Australasian College of Legal Medicine Sydney Dinner
DESCRIPTION:ACLM 2022 Sydney Dinner Meeting\nSatellite meeting in conjuncti
 on with the 2022 World Congress for Medical Law\n\nGuest Speakers:\n\nEmer
 itus Professor Rosalind Croucher AM President of the Australian Human Righ
 ts Commission\n\nHonorable Justice David Collins Court of Appeal\, New Zea
 land\n\nClick on the link to book
CATEGORIES:Scientific Meetings
END:VEVENT
BEGIN:VTIMEZONE
TZID:Australia/Sydney
X-LIC-LOCATION:Australia/Sydney
BEGIN:DAYLIGHT
DTSTART:20221002T030000
TZOFFSETFROM:+1000
TZOFFSETTO:+1100
TZNAME:AEDT
END:DAYLIGHT
END:VTIMEZONE
END:VCALENDAR