BEGIN:VCALENDAR
VERSION:2.0
PRODID:-//wp-events-plugin.com//7.2.3.1//EN
TZID:Australia/Sydney
X-WR-TIMEZONE:Australia/Sydney
BEGIN:VEVENT
UID:36@medicolegal.org.au
DTSTART;TZID=Australia/Sydney:20210616T181500
DTEND;TZID=Australia/Sydney:20210616T220000
DTSTAMP:20210609T102544Z
URL:https://medicolegal.org.au/events/telehealth-panel-discussion/
SUMMARY:Telehealth Panel Discussion
DESCRIPTION:Medico-Legal Scientific Meeting and Dinner  - 16 June 2021 at 
 6.15pm\n\n*Please note due to latest NSW Covid 19 restrictions we will be 
 allowing members to attend meeting without the dinner\, in order for Non m
 embers to attend they must buy a dinner ticket. As regulations change from
  time to time we may need to change our arrangements at short notice.  \n
 \nThe dress code is ‘Modern Professional’ for further details please r
 efer to https://uusc.com.au \n\nScientific Meeting: starts promptly at 6.
 15pm.   $97.50 for members\; $115.00 for guests.\n\nMLS_EventFlyer_June20
 21
CATEGORIES:Scientific Meetings
LOCATION:Union University and Schools Club of Sydney (UUSC)\, 25 Bent St\, 
 Sydney\, NSW\, 2000\, Australia
GEO:-33.8650727;151.21129559999997
X-APPLE-STRUCTURED-LOCATION;VALUE=URI;X-ADDRESS=25 Bent St\, Sydney\, NSW\,
  2000\, Australia;X-APPLE-RADIUS=100;X-TITLE=Union University and Schools 
 Club of Sydney (UUSC):geo:-33.8650727,151.21129559999997
END:VEVENT
BEGIN:VTIMEZONE
TZID:Australia/Sydney
X-LIC-LOCATION:Australia/Sydney
BEGIN:STANDARD
DTSTART:20210404T020000
TZOFFSETFROM:+1100
TZOFFSETTO:+1000
TZNAME:AEST
END:STANDARD
END:VTIMEZONE
END:VCALENDAR