BEGIN:VCALENDAR
VERSION:2.0
PRODID:-//wp-events-plugin.com//7.2.3.1//EN
TZID:Australia/Sydney
X-WR-TIMEZONE:Australia/Sydney
BEGIN:VEVENT
UID:37@medicolegal.org.au
DTSTART;TZID=Australia/Sydney:20210915T180000
DTEND;TZID=Australia/Sydney:20210915T190000
DTSTAMP:20210816T001641Z
URL:https://medicolegal.org.au/events/scientific-meeting-wrongful-birth-pr
 enatal-screening-and-diagnosis/
SUMMARY:Scientific Meeting  - “Wrongful Birth - Prenatal screening and di
 agnosis”
DESCRIPTION:[vc_row][vc_column][vc_column_text]Scientific Meeting Webinar 
  ‘Wrongful Birth - Prenatal screening and diagnosis'\nWednesday 15 Sept
 ember 2021 6pm - 7pm\nGuest speakers:  Dr Philippa Ramsay and Kylie Aglan
 d\n\nWe invite you to join the live Webinar.\n\nThis event is free but reg
 istration is essential.  Please register below and you will be sent your 
 individual link on the 15th September\, Each person attending will receive
  a unique registration link.\n\nIf you can not attend on the evening but w
 ould like to view the webinar at a later date\, please still register\, as
  all registered participants will be sent a link to view the webinar on th
 e 16th September.[/vc_column_text][/vc_column][/vc_row][vc_row][vc_column 
 width="1/3"][vc_single_image image="1882"][/vc_column][vc_column width="2/
 3"][vc_column_text]\n\nDr Philippa Ramsay\n\nMBBS FRANZCOG DDU COGU\n\nDr 
 Philippa Ramsay is an obstetrician and gynaecologist who has sub-specialis
 ed in Obstetric and Gynaecological Ultrasound and Prenatal Diagnosis since
  1990.\n\nShe has a VMO appointment at Royal Prince Alfred Hospital and is
  a Lecturer in the Department of Obstetrics and Gynaecology at Sydney Univ
 ersity. She is an examiner in Ultrasound for the Ultrasound sub-specialty 
 of the Royal Australian and New Zealand College of Obstetrics and Gynaecol
 ogy.\n\n&nbsp\;\n\nDr Ramsay has written several book chapters on Obstetri
 c and Gynaecological Ultrasound. Dr Ramsay's research interests include Tu
 bal Patency studies with hystero-contrast sonography. She also has special
  interest in prenatal diagnosis\, chorionic villus sampling\, and nuchal s
 creening.\n\nShe is a member of the Australian Association of Obstetric an
 d Gynaecological Ultrasonologists\, the American Institute of Ultrasound i
 n Medicine and the Perinatal Society of Australia and New Zealand.[/vc_col
 umn_text][/vc_column][/vc_row][vc_row][vc_column width="1/3"][vc_single_im
 age image="1884"][/vc_column][vc_column width="2/3"][vc_column_text] Kyli
 e Agland\n\nHealth Law Partner at HWL Ebsworth\n\nKylie has 21 years of ex
 perience exclusively as a health industry lawyer. Her primary expertise i
 s medical defence litigation.\n\nKylie specialises in Supreme Court litiga
 tion involving major claims. She has expertise in cases involving obstetri
 c management\, cancer\, infectious diseases and neurological injury. She a
 lso assists medical practitioners dealing with complaints and coronial inq
 uests.\n\nKylie has published numerous articles for the Health Business jo
 urnal and also for the Australian Health Law Bulletin. She has also been 
 invited to speak at medical negligence and medico-legal seminars.\n\nKylie
  has been named in Best Lawyers™ Australia for Medical Negligence.[/vc_
 column_text][/vc_column][/vc_row]
CATEGORIES:Scientific Meeting via Webinar
END:VEVENT
BEGIN:VTIMEZONE
TZID:Australia/Sydney
X-LIC-LOCATION:Australia/Sydney
BEGIN:STANDARD
DTSTART:20210404T020000
TZOFFSETFROM:+1100
TZOFFSETTO:+1000
TZNAME:AEST
END:STANDARD
END:VTIMEZONE
END:VCALENDAR