BEGIN:VCALENDAR
VERSION:2.0
PRODID:-//wp-events-plugin.com//7.2.3.1//EN
TZID:Australia/Sydney
X-WR-TIMEZONE:Australia/Sydney
BEGIN:VEVENT
UID:51@medicolegal.org.au
DTSTART;TZID=Australia/Sydney:20230621T180000
DTEND;TZID=Australia/Sydney:20230621T220000
DTSTAMP:20230619T070740Z
URL:https://medicolegal.org.au/events/scientific-meeting-low-therapeutic-v
 alue-care-and-dispute-resolution/
SUMMARY:Scientific Meeting "Low Therapeutic Value Care and Dispute Resoluti
 on"
DESCRIPTION:\n\nScientific Meeting and Dinner "Low Therapeutic Value Care a
 nd Dispute Resolution"\nWednesday 21 June 2023\n\nOur Guest Speakers Profe
 ssor Neil Merrett and Mr John Harris will explore Value Based Care includi
 ng the  "Choosing Wisely" guidelines  and the increasing role of nation
 al and international guidelines and variations care in the community.\n\n\
 n\n\n\nGuest speakers:  Prof Neil Merrett and Mr John Harris\n6.00pm  UU
 SC Members Dining  Room. Includes set menu &amp\; beverages $110 for membe
 rs\; $125 for guests &amp\; non-members.  Member are able to come along t
 o the meeting without attending the Dinner\, please register for the meeti
 ng alone.\nPlaces are limited so please book early to avoid missing out 
  and no later than Tuesday 13th June 2023 at 5pm.   Unfortunately we c
 an not accept bookings after this time.\n\nThe dress code at UUSC  ‘Mod
 ern Professional’ https://uusc.com.au/the-club/dress-code/ Suit jacket a
 nd collared shirt are to be worn by gentlemen\, and ‘coat &amp\; tie’ 
 on level 1 &amp\; 2.  Mobile phones and other devices must be switched to
  silent.\n\nUnfortunately online Credit Card Payments are not working at t
 his stage\, so if you want to pay by credit card\, you need to complete th
 e attached form as well and completing registration below.  Credit Card P
 ayment Form\n\n
CATEGORIES:Scientific Meetings
LOCATION:Union University and Schools Club of Sydney (UUSC)\, 25 Bent St\, 
 Sydney\, NSW\, 2000\, Australia
GEO:-33.8650727;151.21129559999997
X-APPLE-STRUCTURED-LOCATION;VALUE=URI;X-ADDRESS=25 Bent St\, Sydney\, NSW\,
  2000\, Australia;X-APPLE-RADIUS=100;X-TITLE=Union University and Schools 
 Club of Sydney (UUSC):geo:-33.8650727,151.21129559999997
END:VEVENT
BEGIN:VTIMEZONE
TZID:Australia/Sydney
X-LIC-LOCATION:Australia/Sydney
BEGIN:STANDARD
DTSTART:20230402T020000
TZOFFSETFROM:+1100
TZOFFSETTO:+1000
TZNAME:AEST
END:STANDARD
END:VTIMEZONE
END:VCALENDAR