BEGIN:VCALENDAR
VERSION:2.0
PRODID:-//wp-events-plugin.com//7.2.3.1//EN
TZID:Australia/Sydney
X-WR-TIMEZONE:Australia/Sydney
BEGIN:VEVENT
UID:53@medicolegal.org.au
DTSTART;TZID=Australia/Sydney:20230920T181500
DTEND;TZID=Australia/Sydney:20230920T220000
DTSTAMP:20230913T105315Z
URL:https://medicolegal.org.au/events/scientific-meeting-and-dinner-the-me
 dico-legal-aspects-of-surrogacy-and-the-law/
SUMMARY:Scientific Meeting and Dinner "The Medico-Legal Aspects of Surrogac
 y and the Law"
DESCRIPTION:\nScientific Meeting and Dinner "The Medico-Legal Aspects of Su
 rrogacy and the Law"\nWednesday 20 September 2023\n\n\n\n\n\nWe are deligh
 ted to announce that our Guest Speakers\, Dr. Rachael Hickinbotham and Tah
 lia Bleier\, will be delving into the captivating topic of "The Medico-Leg
 al Aspects of Surrogacy and the Law." We cordially invite you to join us f
 or what promises to be an engaging and thought-provoking discussion.\n\nMe
 eting starts at 6.15pm followed by dinner.\n\nUnion University and Schools
  Club\, 25 Bent St\, Sydney\n\nMembers may attend the meeting without atte
 nding the dinner\, please still register by the RSVP date.\n\nPlease note 
 unfortunately credit card payments are not working online so please comple
 te the attached form once registered if payment by Credit card: Credit Car
 d Payment Form.\n\nBookings close 12 September 2023.\n\n6.15pm  UUSC Mem
 bers Dining  Room. Includes set menu &amp\; beverages $110 for members\; $
 125 for guests &amp\; non-members.  Member are able to come along to the 
 meeting without attending the Dinner\, please still register for the meeti
 ng.\n\n\n\n\n\nPlaces are limited so please book early to avoid missing ou
 t\,  no later than Tuesday 12th September 2023 at 5pm.   \n\nThe dress 
 code at UUSC  ‘Modern Professional’ https://uusc.com.au/the-club/dres
 s-code/ Suit jacket and collared shirt are to be worn by gentlemen\, and 
 ‘coat &amp\; tie’ on level 1 &amp\; 2.  Mobile phones and other devic
 es must be switched to silent.\n\nUnfortunately online Credit Card Payment
 s are not working at this stage\, so if you want to pay by credit card\, y
 ou need to complete the attached form as well and completing registration 
 below.  Credit Card Payment Form\n\n
CATEGORIES:Scientific Meetings
LOCATION:Union University and Schools Club of Sydney (UUSC)\, 25 Bent St\, 
 Sydney\, NSW\, 2000\, Australia
GEO:-33.8650727;151.21129559999997
X-APPLE-STRUCTURED-LOCATION;VALUE=URI;X-ADDRESS=25 Bent St\, Sydney\, NSW\,
  2000\, Australia;X-APPLE-RADIUS=100;X-TITLE=Union University and Schools 
 Club of Sydney (UUSC):geo:-33.8650727,151.21129559999997
END:VEVENT
BEGIN:VTIMEZONE
TZID:Australia/Sydney
X-LIC-LOCATION:Australia/Sydney
BEGIN:STANDARD
DTSTART:20230402T020000
TZOFFSETFROM:+1100
TZOFFSETTO:+1000
TZNAME:AEST
END:STANDARD
END:VTIMEZONE
END:VCALENDAR