BEGIN:VCALENDAR
VERSION:2.0
PRODID:-//wp-events-plugin.com//7.2.3.1//EN
TZID:Australia/Sydney
X-WR-TIMEZONE:Australia/Sydney
BEGIN:VEVENT
UID:41@medicolegal.org.au
DTSTART;TZID=Australia/Sydney:20220615T180000
DTEND;TZID=Australia/Sydney:20220615T220000
DTSTAMP:20220822T102959Z
URL:https://medicolegal.org.au/events/scientific-meeting-and-dinner-gender
 -dysphoria-transgender-children-2/
SUMMARY:Postponed - Scientific Meeting and Dinner  "Gender Dysphoria - Tran
 sgender Children"
DESCRIPTION:This Event has to be postponed until 21 September 22.  Booking
  will go on sale in August.\nScientific Meeting &amp\; Dinner – 'Gender 
 Dysphoria - Transgender Children'\nGuest Speakers: Prof Simon Clarke and K
 ate Gillman\nVenue: Union University &amp\; Schools Club of Sydney (UUSC)\
 , 25 Bent St\, Sydney *Please note the dress code ‘Modern Professional
 ’ https://uusc.com.au/the-club/dress-code/.   \nScientific Meeting: sta
 rts promptly at 6.15pm.  Dinner: starts at 7.30pm.   $97.50 for members\
 ; $115.00 for guests &amp\; non-members.  Please advise any special dieta
 ry requirements.\nBookings should be made on online below.  If having pro
 blems please email executive@medicolegal.org.au\n\nNumbers a strictly limi
 ted to 120 people so please book as soon as possible.  Members are able t
 o attend the meeting without the dinner free of charge\, but still need to
  register\,  unfortunately we can not accept any walkins.\n\nBookings mu
 st be made by the close of business on 6 June 2022 or until sold out which
  ever occurs earlier.\n\n[caption id="attachment_1937" align="alignleft" w
 idth="150"] Prof Simon Clarke[/caption]\n\nProfessor Simon Clarke\, Clini
 cal Professor Paediatrics &amp\; Child Health\, The Children's Hospital a
 t Westmead Clinical School and the Westmead Clinical School.\n\nSince 1980
 \, Simon has been pioneering dedicated Adolescent Health programs\, under 
 the auspices of Westmead Hospital and in close collaboration with  Univer
 sity colleagues and public sector counterparts. These have included dedica
 ted provisions for pregnant adolescents\, adolescents with eating disorder
 s and those recovering from sexual abuse. Core to his practice has been ad
 vocacy of the need for separate and tailored care for adolescents rather t
 han being subsumed into broader healthcare services for the general popula
 tion.\n\nFor this reason\, in 2003\, he founded the Centre for Research in
 to Adolescent Health at Westmead Hospital\, including sourcing inaugural s
 takeholder engagement and funding and developing governance and funding st
 ructures to provide for the Centre in perpetuity. The centre has since bee
 n responsible for convening of conferences to support dissemination of qua
 ntitative and qualitative research.\n\n[caption id="attachment_1936" align
 ="alignleft" width="150"] Kate Gillman[/caption]\n\nKate Gillman – Head 
 of Medico-Legal Advisory Service\, Avant.  \n\nKate is the head of the me
 dico legal advisory service at Avant.  She has worked as a solicitor in t
 he health law field for over 20 years in Australia\, Singapore and London 
 in the public and private sectors.\n\nNSW Bar Association has accredited a
 ttendance at this meeting for 1 CPD point. Solicitors who find this meetin
 g relevant may claim credit for attendance at this meeting towards their M
 CLE obligation at 1MCLE unit per hour.\n\nThis educational activity has be
 en approved in the Royal Australasian College of Surgeons CPD program. Fel
 lows who participate can claim 1 point per hour (max. 2 points) in Categor
 y 4: Maintenance of Knowledge and Skill.\nRSVP by 7 June 2022\nHelen Rober
 ts\, Executive Secretary\nMedico-Legal Society of NSW Inc.\nABN: 70 880 91
 5 645\nT: 0439 183 917\nE: executive@medicolegal.org.au\nW: www.medicolega
 l.org.au
CATEGORIES:Scientific Meetings
LOCATION:Union University and Schools Club of Sydney (UUSC)\, 25 Bent St\, 
 Sydney\, NSW\, 2000\, Australia
GEO:-33.8650727;151.21129559999997
X-APPLE-STRUCTURED-LOCATION;VALUE=URI;X-ADDRESS=25 Bent St\, Sydney\, NSW\,
  2000\, Australia;X-APPLE-RADIUS=100;X-TITLE=Union University and Schools 
 Club of Sydney (UUSC):geo:-33.8650727,151.21129559999997
END:VEVENT
BEGIN:VTIMEZONE
TZID:Australia/Sydney
X-LIC-LOCATION:Australia/Sydney
BEGIN:STANDARD
DTSTART:20220403T020000
TZOFFSETFROM:+1100
TZOFFSETTO:+1000
TZNAME:AEST
END:STANDARD
END:VTIMEZONE
END:VCALENDAR