BEGIN:VCALENDAR
VERSION:2.0
PRODID:-//wp-events-plugin.com//7.2.3.1//EN
TZID:Australia/Sydney
X-WR-TIMEZONE:Australia/Sydney
BEGIN:VEVENT
UID:66@medicolegal.org.au
DTSTART;TZID=Australia/Sydney:20250618T180000
DTEND;TZID=Australia/Sydney:20250618T213000
DTSTAMP:20250530T035522Z
URL:https://medicolegal.org.au/events/scientific-meeting-and-dinner-5/
SUMMARY:Scientific Meeting and Cocktail Event "The Changing Role of the Exp
 ert"
DESCRIPTION:[vc_row css=".vc_custom_1748565891117{margin-top: 0px !importan
 t\;margin-bottom: 0px !important\;border-top-width: 0px !important\;border
 -bottom-width: 0px !important\;padding-top: 0px !important\;padding-bottom
 : 0px !important\;}"][vc_column][vc_column_text css=""]Members $30 | Non M
 embers $60[/vc_column_text][vc_btn title="GET TICKETS" color="primary" siz
 e="lg" css_animation="fadeIn" css="" link="url:https%3A%2F%2Fevents.humani
 tix.com%2Fthe-changing-role-of-the-expert-june-2025-scientific-meeting-and
 -cocktail-event%2Ftickets|title:Get%20Tickets|target:_blank"][/vc_column][
 /vc_row]
CATEGORIES:Scientific Meetings
LOCATION:Makinson d'Apice Lawyers\, Level 33/201 Elizabeth St\, Sydney\, NS
 W\, 2000\, Sydney\, Australia
GEO:-33.873594;151.209536
X-APPLE-STRUCTURED-LOCATION;VALUE=URI;X-ADDRESS=Level 33/201 Elizabeth St\,
  Sydney\, NSW\, 2000\, Sydney\, Australia;X-APPLE-RADIUS=100;X-TITLE=Makin
 son d'Apice Lawyers:geo:-33.873594,151.209536
END:VEVENT
BEGIN:VTIMEZONE
TZID:Australia/Sydney
X-LIC-LOCATION:Australia/Sydney
BEGIN:STANDARD
DTSTART:20250406T020000
TZOFFSETFROM:+1100
TZOFFSETTO:+1000
TZNAME:AEST
END:STANDARD
END:VTIMEZONE
END:VCALENDAR