BEGIN:VCALENDAR
VERSION:2.0
PRODID:-//wp-events-plugin.com//7.2.3.1//EN
TZID:Australia/Sydney
X-WR-TIMEZONE:Australia/Sydney
BEGIN:VEVENT
UID:45@medicolegal.org.au
DTSTART;TZID=Australia/Sydney:20221116T180000
DTEND;TZID=Australia/Sydney:20221116T220000
DTSTAMP:20221109T013806Z
URL:https://medicolegal.org.au/events/scientific-meeting-and-dinner-4/
SUMMARY:Scientific Meeting and Dinner“ The medical expert witness: Are th
 ey fit for purpose?”
DESCRIPTION:Scientific Meeting &amp\; Dinner “The medical expert witness:
  Are they fit for purpose?”\nBooking have closed for this event. \n\nGu
 est Speakers: A Prof Michael Hollands and Mr Bill Madden\nVenue: Union Uni
 versity &amp\; Schools Club of Sydney (UUSC)\, 25 Bent St\, Sydney *Please
  note the dress code ‘Modern Professional’ https://uusc.com.au/the-clu
 b/dress-code/.   \nScientific Meeting: starts promptly at 6.15pm.  Dinne
 r: starts at 7.30pm.   \n$110 for members\; $125.00 for guests &amp\; no
 n-members. Due to increased costs we have had to put our prices up for th
 e first time in many years.\n\nPlease advise any special dietary requireme
 nts.\n\nBookings should be made on online below.  If having problems plea
 se email executive@medicolegal.org.au\n\nDue to increased costs we have ha
 d to put our prices up for the first time in many years.  Numbers are lim
 ited to 100 people so please book as soon as possible.  Members are able 
 to attend the meeting without the dinner free of charge\, but still need t
 o register by the RSVP date\,  unfortunately we can not accept any walkin
 s.\n\nBookings must be made by the close of business on 8 Nov 2022 or unt
 il sold out which ever occurs earlier.\n\nNSW Bar Association has accredit
 ed attendance at this meeting for 1 CPD point. Solicitors who find this me
 eting relevant may claim credit for attendance at this meeting towards the
 ir MCLE obligation at 1MCLE unit per hour.\n\nThis educational activity ha
 s been approved in the Royal Australasian College of Surgeons CPD program.
  Fellows who participate can claim 1 point per hour (max. 2 points) in Cat
 egory 4: Maintenance of Knowledge and Skill.\nRSVP by 8 November 2022\nHel
 en Roberts\, Executive Secretary\nMedico-Legal Society of NSW Inc.\nABN: 7
 0 880 915 645\nT: 0439 183 917\nE: executive@medicolegal.org.au\nW: www.me
 dicolegal.org.au
CATEGORIES:Scientific Meetings
LOCATION:Union University and Schools Club of Sydney (UUSC)\, 25 Bent St\, 
 Sydney\, NSW\, 2000\, Australia
GEO:-33.8650727;151.21129559999997
X-APPLE-STRUCTURED-LOCATION;VALUE=URI;X-ADDRESS=25 Bent St\, Sydney\, NSW\,
  2000\, Australia;X-APPLE-RADIUS=100;X-TITLE=Union University and Schools 
 Club of Sydney (UUSC):geo:-33.8650727,151.21129559999997
END:VEVENT
BEGIN:VTIMEZONE
TZID:Australia/Sydney
X-LIC-LOCATION:Australia/Sydney
BEGIN:DAYLIGHT
DTSTART:20221002T030000
TZOFFSETFROM:+1000
TZOFFSETTO:+1100
TZNAME:AEDT
END:DAYLIGHT
END:VTIMEZONE
END:VCALENDAR