BEGIN:VCALENDAR
VERSION:2.0
PRODID:-//wp-events-plugin.com//7.2.3.1//EN
TZID:Australia/Sydney
X-WR-TIMEZONE:Australia/Sydney
BEGIN:VEVENT
UID:42@medicolegal.org.au
DTSTART;TZID=Australia/Sydney:20220921T180000
DTEND;TZID=Australia/Sydney:20220921T220000
DTSTAMP:20220914T045935Z
URL:https://medicolegal.org.au/events/scientific-meeting-and-dinner-3/
SUMMARY:Scientific Meeting and Dinner
DESCRIPTION:Scientific Meeting &amp\; Dinner – 'Gender Dysphoria - Transg
 ender Children'\nGuest Speakers: Prof Simon Clarke and Kate Gillman\nVenue
 : Union University &amp\; Schools Club of Sydney (UUSC)\, 25 Bent St\, Syd
 ney *Please note the dress code ‘Modern Professional’ https://uusc.com
 .au/the-club/dress-code/.   \nScientific Meeting: starts promptly at 6.15
 pm.  Dinner: starts at 7.30pm.   $97.50 for members\; $115.00 for guests
  &amp\; non-members.  Please advise any special dietary requirements.\nBo
 okings should be made on online below.  If having problems please email e
 xecutive@medicolegal.org.au\n\nNumbers a strictly limited to 100 people so
  please book as soon as possible\, please note if you booked for the June 
 Meeting you still need to book again for this meeting.  Members are able 
 to attend the meeting without the dinner free of charge\, but still need t
 o register\,  unfortunately we can not accept any walkins.\n\nBookings m
 ust be made by the close of business on 12 Sept 2022 or until sold out whi
 ch ever occurs earlier.\n\n[caption id="attachment_1937" align="alignleft"
  width="150"] Prof Simon Clarke[/caption]\n\nProfessor Simon Clarke\, Cli
 nical Professor Paediatrics &amp\; Child Health\, The Children's Hospital
  at Westmead Clinical School and the Westmead Clinical School.\n\nSince 19
 80\, Simon has been pioneering dedicated Adolescent Health programs\, unde
 r the auspices of Westmead Hospital and in close collaboration with  Univ
 ersity colleagues and public sector counterparts. These have included dedi
 cated provisions for pregnant adolescents\, adolescents with eating disord
 ers and those recovering from sexual abuse. Core to his practice has been 
 advocacy of the need for separate and tailored care for adolescents rather
  than being subsumed into broader healthcare services for the general popu
 lation.\n\nFor this reason\, in 2003\, he founded the Centre for Research 
 into Adolescent Health at Westmead Hospital\, including sourcing inaugural
  stakeholder engagement and funding and developing governance and funding 
 structures to provide for the Centre in perpetuity. The centre has since b
 een responsible for convening of conferences to support dissemination of q
 uantitative and qualitative research.\n\n[caption id="attachment_1936" ali
 gn="alignleft" width="150"] Kate Gillman[/caption]\n\nKate Gillman – Hea
 d of Medico-Legal Advisory Service\, Avant.  \n\nKate is the head of the 
 medico legal advisory service at Avant.  She has worked as a solicitor in
  the health law field for over 20 years in Australia\, Singapore and Londo
 n in the public and private sectors.\n\nNSW Bar Association has accredited
  attendance at this meeting for 1 CPD point. Solicitors who find this meet
 ing relevant may claim credit for attendance at this meeting towards their
  MCLE obligation at 1MCLE unit per hour.\n\nThis educational activity has 
 been approved in the Royal Australasian College of Surgeons CPD program. F
 ellows who participate can claim 1 point per hour (max. 2 points) in Categ
 ory 4: Maintenance of Knowledge and Skill.\nRSVP by 12 Sept 2022\nHelen Ro
 berts\, Executive Secretary\nMedico-Legal Society of NSW Inc.\nABN: 70 880
  915 645\nT: 0439 183 917\nE: executive@medicolegal.org.au\nW: www.medicol
 egal.org.au
CATEGORIES:Scientific Meetings
LOCATION:Union University and Schools Club of Sydney (UUSC)\, 25 Bent St\, 
 Sydney\, NSW\, 2000\, Australia
GEO:-33.8650727;151.21129559999997
X-APPLE-STRUCTURED-LOCATION;VALUE=URI;X-ADDRESS=25 Bent St\, Sydney\, NSW\,
  2000\, Australia;X-APPLE-RADIUS=100;X-TITLE=Union University and Schools 
 Club of Sydney (UUSC):geo:-33.8650727,151.21129559999997
END:VEVENT
BEGIN:VTIMEZONE
TZID:Australia/Sydney
X-LIC-LOCATION:Australia/Sydney
BEGIN:STANDARD
DTSTART:20220403T020000
TZOFFSETFROM:+1100
TZOFFSETTO:+1000
TZNAME:AEST
END:STANDARD
END:VTIMEZONE
END:VCALENDAR