BEGIN:VCALENDAR
VERSION:2.0
PRODID:-//wp-events-plugin.com//7.2.3.1//EN
TZID:Australia/Sydney
X-WR-TIMEZONE:Australia/Sydney
BEGIN:VEVENT
UID:54@medicolegal.org.au
DTSTART;TZID=Australia/Sydney:20231122T180000
DTEND;TZID=Australia/Sydney:20231122T220000
DTSTAMP:20231119T042312Z
URL:https://medicolegal.org.au/events/our-carbon-footprint-what-are-our-re
 sponsibilities-scientific-meeting-and-dinner/
SUMMARY:Our Carbon Footprint\, What are our Responsibilities? - Scientific 
 Meeting and Dinner
DESCRIPTION: \nScientific Meeting and Dinner "Our Carbon Footprint\, What a
 re our Responsibilities?"\n\n\n\n\n\n\n\n\n\n\n\n\n\n\nPlease join the com
 mittee and our distinguished speakers are Professor Lynne Madden and Phill
 ip Cronwell for our last meeting of the year on Wednesday 22 November 2023
 .\n\nAfter the presentations\, join us for dinner to network and discuss t
 hese vital topics. Kindly RSVP by Tuesday the 14th November.\n\n\n\n\n\n\n
 \n\n\n\n\n\n\n\n\n\nMeeting starts at 6.15pm followed by dinner.\n\nUnion 
 University and Schools Club\, 25 Bent St\, Sydney\n\nMembers may attend th
 e meeting without attending the dinner\, please still register by the RSVP
  date.\n\nPlease note unfortunately credit card payments are not working o
 nline so please complete the attached form once registered if payment by C
 redit card: Credit Card Payment Form.\n\n\n\nBookings close 16 November 2
 023.\n\n6.15pm  UUSC Members Dining  Room. Includes set menu &amp\; bever
 ages $110 for members\; $125 for guests &amp\; non-members.  Member are a
 ble to come along to the meeting without attending the Dinner\, please sti
 ll register for the meeting.\n\n\n\n\n\nPlaces are limited so please book 
 early to avoid missing out\,  no later than Thursday 16 November 2023 at 
 5pm.   \n\nThe dress code at UUSC  ‘Modern Professional’ https://uu
 sc.com.au/the-club/dress-code/ Suit jacket and collared shirt are to be wo
 rn by gentlemen\, and ‘coat &amp\; tie’ on level 1 &amp\; 2.  Mobile 
 phones and other devices must be switched to silent.\n\n\n
CATEGORIES:Scientific Meetings
LOCATION:Union University and Schools Club of Sydney (UUSC)\, 25 Bent St\, 
 Sydney\, NSW\, 2000\, Australia
GEO:-33.8650727;151.21129559999997
X-APPLE-STRUCTURED-LOCATION;VALUE=URI;X-ADDRESS=25 Bent St\, Sydney\, NSW\,
  2000\, Australia;X-APPLE-RADIUS=100;X-TITLE=Union University and Schools 
 Club of Sydney (UUSC):geo:-33.8650727,151.21129559999997
END:VEVENT
BEGIN:VTIMEZONE
TZID:Australia/Sydney
X-LIC-LOCATION:Australia/Sydney
BEGIN:DAYLIGHT
DTSTART:20231001T030000
TZOFFSETFROM:+1000
TZOFFSETTO:+1100
TZNAME:AEDT
END:DAYLIGHT
END:VTIMEZONE
END:VCALENDAR