BEGIN:VCALENDAR
VERSION:2.0
PRODID:-//wp-events-plugin.com//7.2.3.1//EN
TZID:Australia/Sydney
X-WR-TIMEZONE:Australia/Sydney
BEGIN:VEVENT
UID:28@medicolegal.org.au
DTSTART;TZID=Australia/Sydney:20201008T090000
DTEND;TZID=Australia/Sydney:20201009T160000
DTSTAMP:20200831T093027Z
URL:https://medicolegal.org.au/events/obstetric-malpractice-conference/
SUMMARY:Obstetric Malpractice Conference
DESCRIPTION:The Obstetric Malpractice Conference will be virtual.\n\nPlease
  see attached details of the conference including a special discount avail
 able to MLSNSW members.\n\nIt includes updated information on the format o
 f the Conference.\n\nThe discount code for 15% off a delegate pass is stil
 l: P20A07MLSNSW\n\nYour can link to the Conference Agenda here.\n\n&nbsp\
 ;
CATEGORIES:Conference
LOCATION:HWL Ebsworth\, Level 14\, Australia Square\, 264-278 George Street
 \, Sydney Cove\, NSW \, 2000\, Australia
GEO:-33.864947;151.20777469999996
X-APPLE-STRUCTURED-LOCATION;VALUE=URI;X-ADDRESS=Level 14\, Australia Square
 \, 264-278 George Street\, Sydney Cove\, NSW \, 2000\, Australia;X-APPLE-R
 ADIUS=100;X-TITLE=HWL Ebsworth:geo:-33.864947,151.20777469999996
END:VEVENT
BEGIN:VTIMEZONE
TZID:Australia/Sydney
X-LIC-LOCATION:Australia/Sydney
BEGIN:DAYLIGHT
DTSTART:20201004T030000
TZOFFSETFROM:+1000
TZOFFSETTO:+1100
TZNAME:AEDT
END:DAYLIGHT
END:VTIMEZONE
END:VCALENDAR