BEGIN:VCALENDAR
VERSION:2.0
PRODID:-//wp-events-plugin.com//7.2.3.1//EN
TZID:Australia/Sydney
X-WR-TIMEZONE:Australia/Sydney
BEGIN:VEVENT
UID:65@medicolegal.org.au
DTSTART;TZID=Australia/Sydney:20250924T180000
DTEND;TZID=Australia/Sydney:20250924T213000
DTSTAMP:20250131T003529Z
URL:https://medicolegal.org.au/events/networking-cocktail-reception/
SUMMARY:Networking Cocktail Reception
DESCRIPTION:Details to come.
CATEGORIES:Networking Cocktails,Scientific Meetings
END:VEVENT
BEGIN:VTIMEZONE
TZID:Australia/Sydney
X-LIC-LOCATION:Australia/Sydney
BEGIN:STANDARD
DTSTART:20250406T020000
TZOFFSETFROM:+1100
TZOFFSETTO:+1000
TZNAME:AEST
END:STANDARD
END:VTIMEZONE
END:VCALENDAR