BEGIN:VCALENDAR
VERSION:2.0
PRODID:-//wp-events-plugin.com//7.2.3.1//EN
TZID:Australia/Sydney
X-WR-TIMEZONE:Australia/Sydney
BEGIN:VEVENT
UID:9@medicolegal.org.au
DTSTART;TZID=Australia/Sydney:20181030T180000
DTEND;TZID=Australia/Sydney:20181030T200000
DTSTAMP:20181028T192026Z
URL:https://medicolegal.org.au/events/my-health-record-guest-lecturers-net
 working-cocktails/
SUMMARY:'My Health Record' Guest Lecturers & Networking Cocktails
DESCRIPTION:Guest Speakers: Ms Karen Keogh &amp\; Dr Laila Tabassum\n\nKare
 n’s specific area of expertise is as a Health Industry lawyer. She is a 
 Partner at HWL Ebsworth with over 20 years’ experience in Australia and 
 England\, being qualified in both jurisdictions. Karen has acted for a div
 erse range of clients including professional bodies\, medical defence orga
 nisations\, royal colleges\, hospitals\, foundation trusts and government 
 bodies\, individual doctors and dentists.\nKaren specialises in corporate 
 and commercial work including corporate governance\, regulatory matters\, 
 disciplinary proceedings\, commercial contracts\, industrial matters\, ris
 k management and coronial inquiries.\nShe has a particular interest in dig
 ital health and has been presenting regularly on the medico legal implicat
 ions of the My Health Record.\n\n&nbsp\;\n\nLaila works for the Australian
  Digital Health Agency as an Education and Support Lead. She is helping th
 e 3 Sydney metro PHNs with the My health Record Expansion program. She is 
 Medical doctor with a strong research and digital health background. Laila
  has a Master of Public health from UNSW. After her MPH she worked in psyc
 hiatry research with UNSW for 4 years before starting working in General P
 ractice data quality improvement. She has worked on and with My Health Rec
 ord for the past 6 years. She is passionate about my health record becomin
 g the platform for providing integrated care to all Australians.\n\nRSVP b
 y 26 October. Book online or click here for the flyer. Free Event - bookin
 gs essential\; limited places\n\nProudly sponsored and hosted by:\n\n\n\nH
 WL Ebsworth\, L14 Australia Square\, 264-278 George St\, Sydney
LOCATION:HWL Ebsworth\, Level 14\, Australia Square\, 264-278 George Street
 \, Sydney Cove\, NSW \, 2000\, Australia
GEO:-33.864947;151.20777469999996
X-APPLE-STRUCTURED-LOCATION;VALUE=URI;X-ADDRESS=Level 14\, Australia Square
 \, 264-278 George Street\, Sydney Cove\, NSW \, 2000\, Australia;X-APPLE-R
 ADIUS=100;X-TITLE=HWL Ebsworth:geo:-33.864947,151.20777469999996
END:VEVENT
BEGIN:VTIMEZONE
TZID:Australia/Sydney
X-LIC-LOCATION:Australia/Sydney
BEGIN:DAYLIGHT
DTSTART:20181007T030000
TZOFFSETFROM:+1000
TZOFFSETTO:+1100
TZNAME:AEDT
END:DAYLIGHT
END:VTIMEZONE
END:VCALENDAR