BEGIN:VCALENDAR
VERSION:2.0
PRODID:-//wp-events-plugin.com//7.2.3.1//EN
TZID:Australia/Sydney
X-WR-TIMEZONE:Australia/Sydney
BEGIN:VEVENT
UID:38@medicolegal.org.au
DTSTART;TZID=Australia/Sydney:20210915T190000
DTEND;TZID=Australia/Sydney:20210915T193000
DTSTAMP:20210813T070551Z
URL:https://medicolegal.org.au/events/mls-agm-2021/
SUMMARY:MLS  AGM 2021 - Zoom
DESCRIPTION:[vc_row][vc_column][vc_column_text]Dear Members\,\n\n\n\nThe An
 nual General Meeting of the Medico-Legal Society of NSW Inc 2021 will be h
 eld on 15 September 2021\, immediately after the Scientific Meeting at app
 rox 7pm  Via Zoom\, registration is required:  Register Here\n\n\n\nThe 
 committee hopes you will be able to join them at the meeting.\n\nPlease re
 fer to the  Notification of AGM 2021  for registration  details and the
  agenda.  Also enclosed are Minutes of previous meeting and Nomination 
 of Committee Form (please return any completed forms by 15 September 2021 
 via email to: executive@medicolegal.org.au.)\n\n\n\n\nWe hope you will joi
 n us. Please note: only Ordinary Financial Members (Paid up till at least 
 30 June 2021) are permitted to vote or be nominated for the Committee.\n\n
 Scott Chapman\n\nPresident\n\nMedico Legal Society of NSW Inc\n\n\n\n\n[/v
 c_column_text][/vc_column][/vc_row]
CATEGORIES:AGM &amp; Annual Dinner
LOCATION:The comfort of your own home - Link via Zoom\, GPO Box 1741\, Sydn
 ey\, Australia
X-APPLE-STRUCTURED-LOCATION;VALUE=URI;X-ADDRESS=GPO Box 1741\, Sydney\, Aus
 tralia;X-APPLE-RADIUS=100;X-TITLE=The comfort of your own home - Link via 
 Zoom:geo:0,0
END:VEVENT
BEGIN:VTIMEZONE
TZID:Australia/Sydney
X-LIC-LOCATION:Australia/Sydney
BEGIN:STANDARD
DTSTART:20210404T020000
TZOFFSETFROM:+1100
TZOFFSETTO:+1000
TZNAME:AEST
END:STANDARD
END:VTIMEZONE
END:VCALENDAR