BEGIN:VCALENDAR
VERSION:2.0
PRODID:-//wp-events-plugin.com//7.2.3.1//EN
TZID:Australia/Sydney
X-WR-TIMEZONE:Australia/Sydney
BEGIN:VEVENT
UID:67@medicolegal.org.au
DTSTART;TZID=Australia/Sydney;VALUE=DATE:20250326
DTEND;TZID=Australia/Sydney;VALUE=DATE:20250328
DTSTAMP:20250131T024235Z
URL:https://medicolegal.org.au/events/medicolegal-congress-informa/
SUMMARY:MedicoLegal Congress - Informa
DESCRIPTION:34th Annual Medico Legal Congress 26th-27th March 2025 Swissote
 l Sydney.\n\nFurther details can be found on their website: https://www.in
 forma.com.au/event/conference/healthcare-nursing/medico-legal-congress/\n\
 n&nbsp\;\n\n&nbsp\;
CATEGORIES:Conference
END:VEVENT
BEGIN:VTIMEZONE
TZID:Australia/Sydney
X-LIC-LOCATION:Australia/Sydney
BEGIN:DAYLIGHT
DTSTART:20241006T030000
TZOFFSETFROM:+1000
TZOFFSETTO:+1100
TZNAME:AEDT
END:DAYLIGHT
END:VTIMEZONE
END:VCALENDAR