BEGIN:VCALENDAR
VERSION:2.0
PRODID:-//wp-events-plugin.com//7.2.3.1//EN
TZID:Australia/Sydney
X-WR-TIMEZONE:Australia/Sydney
BEGIN:VEVENT
UID:22@medicolegal.org.au
DTSTART;TZID=Australia/Sydney:20200617T180000
DTEND;TZID=Australia/Sydney:20200617T191500
DTSTAMP:20200604T075230Z
URL:https://medicolegal.org.au/events/june-scientific-meeting-webinar/
SUMMARY:June Scientific Meeting Webinar
DESCRIPTION:Topic: Medico-Legal issues arising from Covid 19 - Panel Discus
 sion with Q&amp\;A.\n\nPanelist: Sonya Black\, Dr David Muscatello and Jac
 k Marjot\, lead by Dr Philip Truskett (Click here for Biographies)\n\nThis
  event is free but registration is essential via website link or email Reg
 istration Form to executive@medicolegal.org.au.  Each person attending wi
 ll receive a unique registration link.  Each registered participant will
  receive the webinar link details closer to the date\, this link will be n
 eeded to access the webinar.\n\nIf you can not attend on the evening but w
 ould like to view the webinar at a later date\, please still register and 
 you will be sent a link to view the webinar.
CATEGORIES:Scientific Meeting via Webinar,Scientific Meetings
END:VEVENT
BEGIN:VTIMEZONE
TZID:Australia/Sydney
X-LIC-LOCATION:Australia/Sydney
BEGIN:STANDARD
DTSTART:20200405T020000
TZOFFSETFROM:+1100
TZOFFSETTO:+1000
TZNAME:AEST
END:STANDARD
END:VTIMEZONE
END:VCALENDAR