BEGIN:VCALENDAR
VERSION:2.0
PRODID:-//wp-events-plugin.com//7.2.3.1//EN
TZID:Australia/Sydney
X-WR-TIMEZONE:Australia/Sydney
BEGIN:VEVENT
UID:58@medicolegal.org.au
DTSTART;TZID=Australia/Sydney:20240605T180000
DTEND;TZID=Australia/Sydney:20240605T210000
DTSTAMP:20240519T070652Z
URL:https://medicolegal.org.au/events/june-5-scientific-meeting-and-cockta
 ils/
SUMMARY:Should there be limits to Tissue Retrieval after Death - Networking
  Cocktails and Talk
DESCRIPTION:Our June 5 Meeting will be slightly different to our regular Sc
 ientific Meetings and Dinners\, instead of a dinner we will do a networkin
 g cocktail event followed by the meeting. HWL Ebsworth has kindly offered 
 to host and sponsor the event. Tickets are limited so please book early to
  ensure a spot at what should be a very interesting talk "Should there be 
 Limits to tissue retrieval after Death" our Guest speakers are Dr George S
 kowronski Clinical Ethics Lead at St George Hospital\, and Evan James a Ba
 rrister\, Evan has been lead Council in a number of recent cases in NSW in
 volving tissue extraction after death including Gonzales v State Coroner o
 f New South Wales [2018].  You can read their full Biographies: George Sk
 owronski Bio and Evan James Bio.\n\nPlease complete the attached Form.\n\n
 RSVP before Monday June 3 2024.\n\nProudly Sponsored by:\n\n
LOCATION:HWL Ebsworth\, Level 14\, Australia Square\, 264-278 George Street
 \, Sydney Cove\, NSW \, 2000\, Australia
GEO:-33.864947;151.20777469999996
X-APPLE-STRUCTURED-LOCATION;VALUE=URI;X-ADDRESS=Level 14\, Australia Square
 \, 264-278 George Street\, Sydney Cove\, NSW \, 2000\, Australia;X-APPLE-R
 ADIUS=100;X-TITLE=HWL Ebsworth:geo:-33.864947,151.20777469999996
END:VEVENT
BEGIN:VTIMEZONE
TZID:Australia/Sydney
X-LIC-LOCATION:Australia/Sydney
BEGIN:STANDARD
DTSTART:20240407T020000
TZOFFSETFROM:+1100
TZOFFSETTO:+1000
TZNAME:AEST
END:STANDARD
END:VTIMEZONE
END:VCALENDAR