BEGIN:VCALENDAR
VERSION:2.0
PRODID:-//wp-events-plugin.com//7.2.3.1//EN
TZID:Australia/Sydney
X-WR-TIMEZONE:Australia/Sydney
BEGIN:VEVENT
UID:23@medicolegal.org.au
DTSTART;TZID=Australia/Sydney:20200312T084500
DTEND;TZID=Australia/Sydney:20200313T164500
DTSTAMP:20200216T033922Z
URL:https://medicolegal.org.au/events/informa-medico-legal-congress-2020/
SUMMARY:Informa Medico Legal Congress 2020
DESCRIPTION:\n\n\n\n\n\nSpecial Rate for Medico Legal Society of NSW Member
 s to attend the Medico Legal Congress 2020 held on 12-13 March 2020 at the
  Radisson Blu Plaza\, Sydney.\n\nThis year’s two-day agenda features won
 derfully credentialed speakers addressing complex and thought-provoking me
 dico legal issues. Click Here to view the two-day agenda.\n\nAs an offici
 al supporting partner\, Medico Legal Society of NSW members are entitled t
 o a 15% discount at the time of registration.\n\nTo register\, simply ent
 er the promo code P20A01MLSNSW when booking. Early bird rates are also av
 ailable until 20 December 2019.\nRegister online today at www.informa.com.
 au/medicolegalregister\n\n\n\n\nSpecial Rate - Medico Legal Congress - MLS
 NSW\n\n&nbsp\;
CATEGORIES:Conference
END:VEVENT
BEGIN:VTIMEZONE
TZID:Australia/Sydney
X-LIC-LOCATION:Australia/Sydney
BEGIN:DAYLIGHT
DTSTART:20191006T030000
TZOFFSETFROM:+1000
TZOFFSETTO:+1100
TZNAME:AEDT
END:DAYLIGHT
END:VTIMEZONE
END:VCALENDAR