BEGIN:VCALENDAR
VERSION:2.0
PRODID:-//wp-events-plugin.com//7.2.3.1//EN
TZID:Australia/Sydney
X-WR-TIMEZONE:Australia/Sydney
BEGIN:VEVENT
UID:55@medicolegal.org.au
DTSTART;TZID=Australia/Sydney:20240313T180000
DTEND;TZID=Australia/Sydney:20240313T213000
DTSTAMP:20240309T025158Z
URL:https://medicolegal.org.au/events/consequential-injury-show-me-the-evi
 dence/
SUMMARY:Consequential Injury: Show me the Evidence.
DESCRIPTION:Scientific Meeting and Dinner - Consequential Injury: Show me t
 he Evidence.\n\nSpeakers: Dr Peter Gray and Matthew Hutchings\n\n&nbsp\;\n
 \nBooking Form - Please book below and complete this form if paying by Cre
 dit Card.
CATEGORIES:Scientific Meetings
LOCATION:Union University and Schools Club of Sydney (UUSC)\, 25 Bent St\, 
 Sydney\, NSW\, 2000\, Australia
GEO:-33.8650727;151.21129559999997
X-APPLE-STRUCTURED-LOCATION;VALUE=URI;X-ADDRESS=25 Bent St\, Sydney\, NSW\,
  2000\, Australia;X-APPLE-RADIUS=100;X-TITLE=Union University and Schools 
 Club of Sydney (UUSC):geo:-33.8650727,151.21129559999997
END:VEVENT
BEGIN:VTIMEZONE
TZID:Australia/Sydney
X-LIC-LOCATION:Australia/Sydney
BEGIN:DAYLIGHT
DTSTART:20231001T030000
TZOFFSETFROM:+1000
TZOFFSETTO:+1100
TZNAME:AEDT
END:DAYLIGHT
END:VTIMEZONE
END:VCALENDAR