BEGIN:VCALENDAR
VERSION:2.0
PRODID:-//wp-events-plugin.com//7.2.3.1//EN
TZID:Australia/Sydney
X-WR-TIMEZONE:Australia/Sydney
BEGIN:VEVENT
UID:24@medicolegal.org.au
DTSTART;TZID=Australia/Sydney:20200318T181500
DTEND;TZID=Australia/Sydney:20200318T213000
DTSTAMP:20200831T071845Z
URL:https://medicolegal.org.au/events/artificial-intelligence/
SUMMARY:POSTPONED to 16 Sept 20.  Scientific Meeting and Dinner - ‘Artifi
 cial Intelligence’
DESCRIPTION:[vc_row][vc_column width="3/4"][vc_column_text]\n\nScientific M
 eeting &amp\;  Dinner ‘Artificial Intelligence\, Machine Learning and M
 edical Practice'\nWednesday 16 September 2020\nGuest speakers:  Dr Sandra
  Johnson and Katherine Richardson SC\n\n6.15pm Scientific Meeting: UUSC Gr
 ound Level Dangar Room. Complimentary to members and guests – bookings e
 ssential.\n\n7.30pm Dinner: UUSC Level 1 Members Dining Room. Includes set
  menu &amp\; beverages $97.50 for members\; $115.00 for guests &amp\; non-
 members.  Please advise any special dietary requirements.\n\n*Please note
  the dress code at UUSC  ‘Modern Professional’ https://uusc.com.au/th
 e-club/dress-code/ Suit jacket and collared shirt are to be worn by gentle
 men\, and ‘coat &amp\; tie’ on level 1 &amp\; 2.  Mobile phones and o
 ther devices must be switched to silent.\n\nPlease book online below (pref
 erred) or email the Booking Form  and payment details to executive@medico
 legal.org.au before Monday 9 March 2020.[/vc_column_text][/vc_column][/vc_
 row][vc_row css=".vc_custom_1572237990693{margin-top: 10px !important\;}"]
 [vc_column width="1/2"][vc_single_image image="1699" img_size="medium"][/v
 c_column][vc_column width="1/2"][vc_column_text]Dr Sandra L J Johnson  M
 BChB\, DPaed\, FRACP\, FRCPCH\, FACLM  Sandra Johnson was President of th
 e Australasian College of Legal Medicine 2017-2020 and is Clinical Associa
 te Professor at the University of Sydney.\n\nShe is a developmental paedia
 trician in private practice in Sydney for about 30 years. She is a Fellow 
 of the Royal Australasian College of Physicians (FRACP)\, Fellow of the Ro
 yal College of Paediatrics and Child Health UK (FRCPCH) and Fellow of the 
 Australasian College of Legal Medicine (FACLM).\n\nSandra is main author o
 f “ Clinical handbook on child development paediatrics”\; publisher an
 d author of a book for parents “Your child’s development”\; written 
 a chapter in “Legal Medicine” textbook\; and several peer reviewed jou
 rnal articles.\n\nShe does private study in Ethics related to Data Science
 \, AI and Healthcare with interest in the impact of technology on our beha
 vior and social connections.\n\n[/vc_column_text][/vc_column][/vc_row][vc_
 row css=".vc_custom_1572237990693{margin-top: 10px !important\;}"][vc_colu
 mn width="1/2"][vc_single_image image="1700" img_size="full"][/vc_column][
 vc_column width="1/2"][vc_column_text]Katherine Richardson SC\, Banco Cham
 bers   BEc LLB\, DipEd (Sydney) LLM (Harvard)\n\nKate was admitted as a 
 solicitor to Supreme Court of New South Wales in 1997.  She was admitted
  to the New Yark Bar in 2000 after obtaining an LL.M from Harvard Law Scho
 ol and practising at Sullivan &amp\; Cromwell in New York .  Kate was cal
 led to the NSW Bar in 2002 receiving the Blashki Award for the highest mar
 k in the Bar Exams\, she was appointed to Silk in 2016.\n\nKate has exten
 sive experience in a range of private and public law litigation and has ap
 peared in the High Court\, NSW Court of Appeal\, Supreme Court\, Federal C
 ourt\, the Land and Environment Court as well as a range of quasi-judicial
  and administrative tribunals.[/vc_column_text][/vc_column][/vc_row]
CATEGORIES:Scientific Meetings
LOCATION:Union University and Schools Club of Sydney (UUSC)\, 25 Bent St\, 
 Sydney\, NSW\, 2000\, Australia
GEO:-33.8650727;151.21129559999997
X-APPLE-STRUCTURED-LOCATION;VALUE=URI;X-ADDRESS=25 Bent St\, Sydney\, NSW\,
  2000\, Australia;X-APPLE-RADIUS=100;X-TITLE=Union University and Schools 
 Club of Sydney (UUSC):geo:-33.8650727,151.21129559999997
END:VEVENT
BEGIN:VTIMEZONE
TZID:Australia/Sydney
X-LIC-LOCATION:Australia/Sydney
BEGIN:DAYLIGHT
DTSTART:20191006T030000
TZOFFSETFROM:+1000
TZOFFSETTO:+1100
TZNAME:AEDT
END:DAYLIGHT
END:VTIMEZONE
END:VCALENDAR