BEGIN:VCALENDAR
VERSION:2.0
PRODID:-//wp-events-plugin.com//7.2.3.1//EN
TZID:Australia/Sydney
X-WR-TIMEZONE:Australia/Sydney
BEGIN:VEVENT
UID:52@medicolegal.org.au
DTSTART;TZID=Australia/Sydney:20230825T183000
DTEND;TZID=Australia/Sydney:20230825T184500
DTSTAMP:20230803T214340Z
URL:https://medicolegal.org.au/events/annual-general-meeting-2023/
SUMMARY:Annual General Meeting 2023
DESCRIPTION:All Members are invited to attend the 2023 Annual General Meeti
 ng of the Medico Legal Society of NSW.\n\nThe AGM will held at Doltone Hou
 se prior to the Annual Dinner. If you have already registered for the Annu
 al Dinner you do not need to register again\, however if you are planning 
 to attend the AGM alone please email executive@medicolegal.org.au as it wo
 uld be useful to know numbers.\n\nPlease see details  of the agenda also 
 enclosed are Minutes of previous meeting. \n\nIf you are interested in joi
 ning the committee please complete the Nomination of Committee Form  or e
 mail executive@medicolegal.org.au for further information about this criti
 cal role to the Society.\n\nPlease note: only Ordinary Members are permitt
 ed to vote or be nominated for the Committee.
CATEGORIES:Scientific Meetings
LOCATION:\, \, 
X-APPLE-STRUCTURED-LOCATION;VALUE=URI;X-ADDRESS=\, ;X-APPLE-RADIUS=100;X-TI
 TLE=:geo:0,0
END:VEVENT
BEGIN:VTIMEZONE
TZID:Australia/Sydney
X-LIC-LOCATION:Australia/Sydney
BEGIN:STANDARD
DTSTART:20230402T020000
TZOFFSETFROM:+1100
TZOFFSETTO:+1000
TZNAME:AEST
END:STANDARD
END:VTIMEZONE
END:VCALENDAR