BEGIN:VCALENDAR
VERSION:2.0
PRODID:-//wp-events-plugin.com//7.2.3.1//EN
TZID:Australia/Sydney
X-WR-TIMEZONE:Australia/Sydney
BEGIN:VEVENT
UID:64@medicolegal.org.au
DTSTART;TZID=Australia/Sydney:20250815T183000
DTEND;TZID=Australia/Sydney:20250815T223000
DTSTAMP:20250530T042713Z
URL:https://medicolegal.org.au/events/agm-and-annual-dinner-3/
SUMMARY:AGM and Annual Dinner
DESCRIPTION:
CATEGORIES:AGM &amp; Annual Dinner
LOCATION:Doltone House - Pyrmont\, Doltone House\, Darling Island Wharf\, 4
 8 Pirrama Road\, Sydney\, 2009\, Australia
GEO:-33.866979;151.195935
X-APPLE-STRUCTURED-LOCATION;VALUE=URI;X-ADDRESS=Doltone House\, Darling Isl
 and Wharf\, 48 Pirrama Road\, Sydney\, 2009\, Australia;X-APPLE-RADIUS=100
 ;X-TITLE=Doltone House - Pyrmont:geo:-33.866979,151.195935
END:VEVENT
BEGIN:VTIMEZONE
TZID:Australia/Sydney
X-LIC-LOCATION:Australia/Sydney
BEGIN:STANDARD
DTSTART:20250406T020000
TZOFFSETFROM:+1100
TZOFFSETTO:+1000
TZNAME:AEST
END:STANDARD
END:VTIMEZONE
END:VCALENDAR