BEGIN:VCALENDAR
VERSION:2.0
PRODID:-//wp-events-plugin.com//7.2.3.1//EN
TZID:Australia/Sydney
X-WR-TIMEZONE:Australia/Sydney
BEGIN:VEVENT
UID:60@medicolegal.org.au
DTSTART;TZID=Australia/Sydney:20240823T183000
DTEND;TZID=Australia/Sydney:20240823T223000
DTSTAMP:20240720T025403Z
URL:https://medicolegal.org.au/events/agm-and-annual-dinner-2024/
SUMMARY:AGM and Annual Dinner - 2024
DESCRIPTION:You are invited to the 2024 Annual General Meeting followed by 
 the Annual Dinner of the Medico-Legal Society of NSW Inc.\n\nOn: Friday 23
 th August 2024\n\nAGM 6.30 pm - in Avenue Room\n\nAnnual Dinner -Pre dinne
 r drinks from 6.45pm\, Dinner 7.30pm\n\nGuest Speaker:   Dr Kerry Chant A
 O PSM\n\nToast to Medicine: Jason Downing SC\n\nToast to Law: Dr Susan Her
 tzberg\n\nAt: Doltone House - Hyde Park - Manhattan Room\n\nLevel 3\, 181 
 Elizabeth Street Sydney 2000\n\nMembers $165 Non-members $190 (includes 3
  course dinner and drinks)\n\nDress Code: Black Tie\n\nTickets can be book
 ed individually and a table will be assigned or you can book as a table of
  10.\n\nPlease register your booking below and email  executive@medicole
 gal.org.au to confirm if you will pay by EFT or Credit Card payment by 18t
 h July 2024.\n\nBooking Payment Form
CATEGORIES:AGM &amp; Annual Dinner
LOCATION:\, \, 
X-APPLE-STRUCTURED-LOCATION;VALUE=URI;X-ADDRESS=\, ;X-APPLE-RADIUS=100;X-TI
 TLE=:geo:0,0
END:VEVENT
BEGIN:VTIMEZONE
TZID:Australia/Sydney
X-LIC-LOCATION:Australia/Sydney
BEGIN:STANDARD
DTSTART:20240407T020000
TZOFFSETFROM:+1100
TZOFFSETTO:+1000
TZNAME:AEST
END:STANDARD
END:VTIMEZONE
END:VCALENDAR