BEGIN:VCALENDAR
VERSION:2.0
PRODID:-//wp-events-plugin.com//7.2.3.1//EN
TZID:Australia/Sydney
X-WR-TIMEZONE:Australia/Sydney
BEGIN:VEVENT
UID:50@medicolegal.org.au
DTSTART;TZID=Australia/Sydney:20230825T180000
DTEND;TZID=Australia/Sydney:20230825T223000
DTSTAMP:20230724T070240Z
URL:https://medicolegal.org.au/events/agm-and-annual-dinner-2/
SUMMARY:AGM and Annual Dinner
DESCRIPTION:You are invited to the 2023 Annual General Meeting followed by
  the Annual Dinner of the Medico-Legal Society of NSW Inc.\n\nOn: Friday 2
 5th August 2023\n\nAGM 6.30 pm - in Avenue Room\n\nAnnual Dinner -Pre dinn
 er drinks 6.45pm\, Dinner 7.30pm\n\nGuest Speaker: Katherine Richardson SC
 \n\nToast to Medicine: Scott Chapman\n\nToast to Law: Dr Jack Marjot\n\nAt
 : Doltone House - Hyde Park - Manhattan Room \n\nLevel 3\, 181 Elizabeth S
 treet Sydney 2000\n\nMembers $160 Non-members $180 (includes 3 course din
 ner and drinks)\n\nDress Code: Black Tie\n\nTickets can be booked individu
 ally and a table will be assigned or you can book as a table of 10.\n\nPle
 ase register your booking below and email  executive@medicolegal.org.au
  to confirm if you will pay by EFT or Credit card payment.\n\nBooking Pay
 ment Form
CATEGORIES:AGM &amp; Annual Dinner
LOCATION:\, \, 
X-APPLE-STRUCTURED-LOCATION;VALUE=URI;X-ADDRESS=\, ;X-APPLE-RADIUS=100;X-TI
 TLE=:geo:0,0
END:VEVENT
BEGIN:VTIMEZONE
TZID:Australia/Sydney
X-LIC-LOCATION:Australia/Sydney
BEGIN:STANDARD
DTSTART:20230402T020000
TZOFFSETFROM:+1100
TZOFFSETTO:+1000
TZNAME:AEST
END:STANDARD
END:VTIMEZONE
END:VCALENDAR