BEGIN:VCALENDAR
VERSION:2.0
PRODID:-//wp-events-plugin.com//7.2.3.1//EN
TZID:Australia/Sydney
X-WR-TIMEZONE:Australia/Sydney
BEGIN:VEVENT
UID:29@medicolegal.org.au
DTSTART;TZID=Australia/Sydney:20201118T180000
DTEND;TZID=Australia/Sydney:20201118T190000
DTSTAMP:20201116T081627Z
URL:https://medicolegal.org.au/events/aged-care-royal-commission/
SUMMARY:Webinar - Aged Care Royal Commission
DESCRIPTION:Scientific Meeting Webinar  ‘Aged Care Royal Commission'\nW
 ednesday 18th November 2020 6pm - 7pm\nGuest speakers:  Associate Profess
 or Peter Gonski and Jason Symons (Click here for Biographies)\n\nWe invite
  you to join the live Webinar and ask questions.  Philip Truskett\, Medic
 al Secretary of the Medico-Legal Society of NSW will MC the evening and Ka
 te Gillman\, Assistant Legal Secretary of  Medico-Legal Society of NSW wi
 ll take the Q&amp\;A.\n\nThis event is free but registration is essential.
   Please register below and you will be sent your individual link on the 
 17th November\, each person attending will receive a unique registration l
 ink.\n\nIf you can not attend on the evening but would like to view the we
 binar at a later date\, please still register\, as all registered particip
 ants will be sent a link to view the webinar on the 19th November.
CATEGORIES:Scientific Meeting via Webinar,Scientific Meetings
LOCATION:The comfort of your own home - Link via Zoom\, GPO Box 1741\, Sydn
 ey\, Australia
X-APPLE-STRUCTURED-LOCATION;VALUE=URI;X-ADDRESS=GPO Box 1741\, Sydney\, Aus
 tralia;X-APPLE-RADIUS=100;X-TITLE=The comfort of your own home - Link via 
 Zoom:geo:0,0
END:VEVENT
BEGIN:VTIMEZONE
TZID:Australia/Sydney
X-LIC-LOCATION:Australia/Sydney
BEGIN:DAYLIGHT
DTSTART:20201004T030000
TZOFFSETFROM:+1000
TZOFFSETTO:+1100
TZNAME:AEDT
END:DAYLIGHT
END:VTIMEZONE
END:VCALENDAR