BEGIN:VCALENDAR
VERSION:2.0
PRODID:-//wp-events-plugin.com//7.2.3.1//EN
TZID:Australia/Sydney
X-WR-TIMEZONE:Australia/Sydney
BEGIN:VEVENT
UID:35@medicolegal.org.au
DTSTART;TZID=Australia/Sydney:20210329T180000
DTEND;TZID=Australia/Sydney:20210510T190000
DTSTAMP:20210425T042710Z
URL:https://medicolegal.org.au/events/aclm-legal-refections-free-webinar-s
 eries/
SUMMARY:ACLM Legal Refections free Webinar Series
DESCRIPTION:The Australasian College of Legal Medicine will host the follow
 ing four part 'Legal Reflections' free webinar series in association with 
 the following organisations.\n\nThis webinar series is free for all attend
 ees. Simply register here to attend:\n\nhttps://legalmedicine.com.au/legal
 -reflections/ \n\nWEBINAR # 1 – PROFESSOR IAN FRECKELTON QC – ‘Conc
 urrent Expert Evidence’\n\nDate / Time: Monday 29 March 2021\, 6.00pm AE
 ST / 7.00pm AEDT\n\nThis webinar is brought to you by the Australasian Col
 lege of Legal Medicine in partnership with The Medico-Legal Society of Vic
 toria\n\nWEBINAR # 2 – PROFESSOR JOHN DEVEREUX – ‘Fitness to Drive: 
 Some Legal Aspects’\n\nDate / Time: Monday 12 April 2021\, 6.00pm AEST\n
 \nThis webinar is brought to you by the Australasian College of Legal Medi
 cine.\n\nWEBINAR # 3 – MARNIE MANNING – ‘Enhancing The Role Of Coron
 er As Inquisitor: Practical Tips for Expert Witnesses in Coronial Proceedi
 ngs’\n\nDate / Time: Monday 26 April 2021 - 7.00pm AEST\n\nThis webinar 
 is brought to you by the Australasian College of Legal Medicine in partner
 ship with The Medico-Legal Society of Victoria\n\n&nbsp\;\n\nWEBINAR # 4 
 – BILL MADDEN – ‘More Questions Than Answers: Wrongful Life and Wron
 gful Birth’\n\nDate / Time: Monday 10 May 2021 - 7.00pm AEST (pre-record
 ed)\n\nThis webinar is brought to you by the Australasian College of Legal
  Medicine in partnership with the Medico-Legal Society of NSW Inc.\n\n&nbs
 p\;\n\nDetails of Speakers\n\nACLM Webinar Legal Reflections Flyer
CATEGORIES:Scientific Meetings
END:VEVENT
BEGIN:VTIMEZONE
TZID:Australia/Sydney
X-LIC-LOCATION:Australia/Sydney
BEGIN:DAYLIGHT
DTSTART:20201004T030000
TZOFFSETFROM:+1000
TZOFFSETTO:+1100
TZNAME:AEDT
END:DAYLIGHT
BEGIN:STANDARD
DTSTART:20210404T020000
TZOFFSETFROM:+1100
TZOFFSETTO:+1000
TZNAME:AEST
END:STANDARD
END:VTIMEZONE
END:VCALENDAR