BEGIN:VCALENDAR
VERSION:2.0
PRODID:-//wp-events-plugin.com//7.2.3.1//EN
TZID:Australia/Sydney
X-WR-TIMEZONE:Australia/Sydney
BEGIN:VEVENT
UID:57@medicolegal.org.au
DTSTART;TZID=Australia/Sydney:20240319T083000
DTEND;TZID=Australia/Sydney:20240320T180000
DTSTAMP:20240219T045449Z
URL:https://medicolegal.org.au/events/33rd-annual-medico-legal-congress/
SUMMARY:33rd Annual Medico Legal Congress
DESCRIPTION:The Medico Legal Society of NSW is proud to be a supporting par
 tner of the 33rd Annual Medico Legal Congress.\nThe Congress is brought to
  you by Informa Connect Australia.\nFurther details can be found in the Me
 dico Legal Congress Brochure\n&nbsp\;\n\n&nbsp\;
CATEGORIES:Conference
END:VEVENT
BEGIN:VTIMEZONE
TZID:Australia/Sydney
X-LIC-LOCATION:Australia/Sydney
BEGIN:DAYLIGHT
DTSTART:20231001T030000
TZOFFSETFROM:+1000
TZOFFSETTO:+1100
TZNAME:AEDT
END:DAYLIGHT
END:VTIMEZONE
END:VCALENDAR