BEGIN:VCALENDAR
VERSION:2.0
PRODID:-//wp-events-plugin.com//7.2.3.1//EN
TZID:Australia/Sydney
X-WR-TIMEZONE:Australia/Sydney
BEGIN:VEVENT
UID:47@medicolegal.org.au
DTSTART;TZID=Australia/Sydney;VALUE=DATE:20230314
DTEND;TZID=Australia/Sydney;VALUE=DATE:20230316
DTSTAMP:20230219T064800Z
URL:https://medicolegal.org.au/events/32nd-annual-medico-legal-congress/
SUMMARY:32nd Annual Medico Legal Congress
DESCRIPTION:https://www.informa.com.au/event/conference/healthcare-nursing/
 medico-legal-congress/
CATEGORIES:Conference
END:VEVENT
BEGIN:VTIMEZONE
TZID:Australia/Sydney
X-LIC-LOCATION:Australia/Sydney
BEGIN:DAYLIGHT
DTSTART:20221002T030000
TZOFFSETFROM:+1000
TZOFFSETTO:+1100
TZNAME:AEDT
END:DAYLIGHT
END:VTIMEZONE
END:VCALENDAR