BEGIN:VCALENDAR
VERSION:2.0
PRODID:-//wp-events-plugin.com//7.2.3.1//EN
TZID:Australia/Sydney
X-WR-TIMEZONE:Australia/Sydney
BEGIN:VEVENT
UID:44@medicolegal.org.au
DTSTART;TZID=Australia/Sydney:20220812T183000
DTEND;TZID=Australia/Sydney:20220812T224500
DTSTAMP:20220607T005129Z
URL:https://medicolegal.org.au/events/2022-agm-and-annual-dinner-2/
SUMMARY:2022 AGM and Annual Dinner
DESCRIPTION:You are invited to the Annual General Meeting followed by the A
 nnual Dinner of the Medico-Legal Society of NSW inc.\n\nGuest of Honour: H
 er Excellency the Honourable Margaret Beazley AC QC\, Governor of New Sout
 h Wales.\n\nOn: Friday 12th August 2022\n\nAGM 6.30 pm - in Avenue Room\n\
 nAnnual Dinner -Pre dinner drinks 6.45pm\, Dinner 7.30pm\n\nAt: Doltone Ho
 use - Hyde Park - Manhattan Room \n\nLevel 3\, 181 Elizabeth Street Sydne
 y 2000\n\nMembers $150 Non-members $175 (includes 3 course dinner and dri
 nks)\n\nDress Code: Black Tie\n\nPlease book below\, or download the Invit
 ation and email to executive@medicolegal.org.au
CATEGORIES:AGM &amp; Annual Dinner
LOCATION:\, \, 
X-APPLE-STRUCTURED-LOCATION;VALUE=URI;X-ADDRESS=\, ;X-APPLE-RADIUS=100;X-TI
 TLE=:geo:0,0
END:VEVENT
BEGIN:VTIMEZONE
TZID:Australia/Sydney
X-LIC-LOCATION:Australia/Sydney
BEGIN:STANDARD
DTSTART:20220403T020000
TZOFFSETFROM:+1100
TZOFFSETTO:+1000
TZNAME:AEST
END:STANDARD
END:VTIMEZONE
END:VCALENDAR