BEGIN:VCALENDAR
VERSION:2.0
PRODID:-//wp-events-plugin.com//7.2.3.1//EN
TZID:Australia/Sydney
X-WR-TIMEZONE:Australia/Sydney
BEGIN:VEVENT
UID:33@medicolegal.org.au
DTSTART;TZID=Australia/Sydney:20210813T183000
DTEND;TZID=Australia/Sydney:20210813T223000
DTSTAMP:20210812T054403Z
URL:https://medicolegal.org.au/events/2021-agm-and-annual-dinner/
SUMMARY:2021 AGM and Annual Dinner - Cancelled
DESCRIPTION:You are invited to the Annual General Meeting followed by the A
 nnual Dinner of the Medico-Legal Society of NSW inc.\n\nGuest of Honour: H
 er Excellency the Honourable Margaret Beazley AC QC\, Governor of New Sout
 h Wales.\n\nOn: Friday 13th August 2021\n\nAGM 6.30 pm\,  Pre dinner drin
 ks 6.45pm\, Dinner 7.30pm\n\nAt: Doltone House - Hyde Park - Manhattan Roo
 m \n\nLevel 3\, 181 Elizabeth Street Sydney 2000\n\nMembers $140 Non-memb
 ers $160 (includes 3 course dinner and drinks)\n\nDress Code: Black Tie\n\
 nPlease book below\, or download the Invitation and email to executive@me
 dicolegal.org.au
CATEGORIES:AGM &amp; Annual Dinner
LOCATION:\, \, 
X-APPLE-STRUCTURED-LOCATION;VALUE=URI;X-ADDRESS=\, ;X-APPLE-RADIUS=100;X-TI
 TLE=:geo:0,0
END:VEVENT
BEGIN:VTIMEZONE
TZID:Australia/Sydney
X-LIC-LOCATION:Australia/Sydney
BEGIN:STANDARD
DTSTART:20210404T020000
TZOFFSETFROM:+1100
TZOFFSETTO:+1000
TZNAME:AEST
END:STANDARD
END:VTIMEZONE
END:VCALENDAR