BEGIN:VCALENDAR
VERSION:2.0
PRODID:-//wp-events-plugin.com//7.2.3.1//EN
TZID:Australia/Sydney
X-WR-TIMEZONE:Australia/Sydney
BEGIN:VEVENT
UID:49@medicolegal.org.au
DTSTART;TZID=Australia/Sydney;VALUE=DATE:20230325
DTEND;TZID=Australia/Sydney;VALUE=DATE:20230327
DTSTAMP:20230308T225819Z
URL:https://medicolegal.org.au/events/2018/
SUMMARY:ACLM 2023 ASM - Law & Regulation of Healthcare
DESCRIPTION:Australasian College of Legal Medicine's\n\n2023 Annual Scienti
 fic Meeting &amp\; Awards Dinner - \n\nLaw &amp\; Regulation of Healthcar
 e\n\nwww.legalmedicine.com.au/2023-asm\n\n\nThis event is proudly delivere
 d in association with the American College of Legal Medicine with represe
 ntative guest speakers.\n\n\nWhen: 25 &amp\; 26 March 2023\n\nWhere: Hybr
 id event - Hobart &amp\; Online (Live-streamed &amp\; recorded for later v
 iewing)\n\nTickets: Medico-Legal Society of NSW members can access discoun
 ted member pricing as an official supporting organisation. Register onli
 ne here!\n\nProgram: Click here to view (also attached).\n\n&nbsp\;\n\nSOM
 E PROGRAM HIGHLIGHTS:\n\n 	Opening Address - Her Excellency the Honourable
  Barbara Baker AC\, the Governor of Tasmania\n\n\n 	Traps in Governance of
  Specialist Institutions - Walter Sofronoff KC\, Commissioner of Inquiry i
 nto Forensic DNA Testing in Queensland\n\n\n 	The National Law: It’s not
  getting easier - Brad Wright\, Barrister\n\n\n 	Creep of Scope Dilemma - 
 Dr Eli Avila\, President American ACLM\n\n\n 	Regulating the Individual Pr
 actitioner: Building resilience to combat vicarious trauma - Dr Adam Griff
 in\, Director QLD Clinical Forensic Medicine Unit\n\n\n 	The Role of Healt
 h Care Providers in the Opioid Crisis - Joe Piorkowski\, Defense Attorney 
 (American ACLM Guest)\n\n\n 	Mental Health and Trauma in the Law - David 
 Cocker\, Solicitor\, Blumers Tasmania\n\n\n 	Pandemic-related Situational 
 &amp\; Vicarious Trauma in Medical and Legal Education - Dr Liz Valencia\,
  Enterprise Associate Dean DEI\, Mayo Clinic Alix School of Medicine (Amer
 ican ACLM Guest)\n\n\n 	Plus many more!!\n\nFlexible attendance options\n\
 nThe conference program will be both live-streamed and recorded for later 
 viewing to cater for different time zones.\n\n&nbsp\;\n\nTicket Cost (AUD)
 \n\n 	Live Attendees - $550 ACLM members - members price extended to the 
 Medico-Legal Society of NSW members!\n 	Virtual Attendees - $500 ACLM mem
 bers - members price extended to the Medico-Legal Society of NSW memb
 ers!\n\nSupporting Organisations:\n\n 	The Law Society of Tasmania\n 	Univ
 ersity of Tasmania - Faculty of Law\n 	The Medico-Legal Society of Victori
 a Inc.\n 	Medico-Legal Society of NSW Inc.\n\nVisit the ACLM website to re
 gister and for more information - www.legalmedicine.com.au
CATEGORIES:Conference
END:VEVENT
BEGIN:VTIMEZONE
TZID:Australia/Sydney
X-LIC-LOCATION:Australia/Sydney
BEGIN:DAYLIGHT
DTSTART:20221002T030000
TZOFFSETFROM:+1000
TZOFFSETTO:+1100
TZNAME:AEDT
END:DAYLIGHT
END:VTIMEZONE
END:VCALENDAR