BEGIN:VCALENDAR
VERSION:2.0
PRODID:-//wp-events-plugin.com//7.2.3.1//EN
TZID:Australia/Sydney
X-WR-TIMEZONE:Australia/Sydney
BEGIN:VEVENT
UID:34@medicolegal.org.au
DTSTART;TZID=Australia/Sydney:20210317T181500
DTEND;TZID=Australia/Sydney:20210317T213000
DTSTAMP:20210312T023212Z
URL:https://medicolegal.org.au/events/17-march-21-scientific-meeting-and-d
 inner-covid-vaccine-medico-legal-issues/
SUMMARY:17 March 21  Scientific Meeting and Dinner - ‘Covid 19 Vaccine\, 
 Medico-Legal Issues’
DESCRIPTION:[vc_row][vc_column width="3/4"][vc_column_text]Scientific Meeti
 ng &amp\;  Dinner ‘Covid 19 Vaccine\, Medico-Legal Issues'\nWednesday 1
 7 March 2021\nGuest speakers:  Prof Bill Rawlinson and Anne Horvath\n\n6.
 00pm  UUSC Members Dining  Room. Includes set menu &amp\; beverages $97.5
 0 for members\; $115.00 for guests &amp\; non-members.  Please advise any
  special dietary requirements and requests for table allocation.\n\n*Pleas
 e note due to COVID 19 places are limited and restrictions do apply\, only
  those with a prebooked ticket will be allowed to enter\, and all members 
 and guests must remain seated at all times.  The dress code at UUSC  ‘
 Modern Professional’ https://uusc.com.au/the-club/dress-code/ Suit jacke
 t and collared shirt are to be worn by gentlemen\, and ‘coat &amp\; tie
 ’ on level 1 &amp\; 2.  Mobile phones and other devices must be switche
 d to silent.\n\nPlease book online below (preferred) or email the Booking 
 Form  and payment details to executive@medicolegal.org.au before Monday 8
  March 2020 at 5pm  Unfortunately we will not be able to accept bookings 
 after this time.[/vc_column_text][/vc_column][/vc_row][vc_row css=".vc_cus
 tom_1572237990693{margin-top: 10px !important\;}"][vc_column width="1/3"][
 vc_single_image image="1842" img_size="medium"][/vc_column][vc_column widt
 h="2/3"][vc_column_text]Prof Bill Rawlinson AM is a Senior Medical Virolog
 ist and the Director of Virology at South Eastern Sydney and Illawarra Hea
 lth Service. He is Director of the Area virology reference laboratory\, a 
 virology clinical trials unit\, the Therapeutic Goods Administration (TGA)
  licensed laboratory testing organs donors for blood borne viruses\, and t
 he virology research laboratory (www.virologyresearch.unsw.edu.au).\n\nPro
 f Rawlinson completed his MBBS and BSc(Med) at the University of Sydney in
  1983\, then obtained his Fellowship of the Royal Australasian College of 
 Physicians in Infectious Diseases\, and subsequently specialised in virolo
 gy\, receiving his Fellowship of the Royal College of Pathologists Austral
 asia in Microbiology. He obtained his PhD from the University of Cambridge
 \, UK\, in 1994\, for his studies of the genomes of human and murine CMV. 
 Prof Rawlinson is now a molecular virologist with particular scientific ex
 pertise in herpes viruses (CMV)\, hepatitis virus (HCV)\, enteroviruses\, 
 and respiratory viruses. His contributions to science includes new testing
  algorithms for common viral illnesses\, sequencing and analysis of the mu
 rine CMV genome\, unique studies of congenital CMV and the placenta\, uniq
 ue data on endogenous viruses and cancer\, and he continues to directly su
 pervise projects within these areas. Prof Rawlinson has received multiple 
 awards in science\, and is on advisory boards to the NSW and Commonwealth 
 Departments of Health.[/vc_column_text][/vc_column][/vc_row][vc_row css=".
 vc_custom_1572237990693{margin-top: 10px !important\;}"][vc_column width="
 1/3"][vc_single_image image="1845" img_size="220 x 220"][/vc_column][vc_co
 lumn width="2/3"][vc_column_text]Anne Horvath is a very experienced litiga
 tor with a busy court practice spanning numerous jurisdictions and areas o
 f law. She is regularly briefed in litigation concerning insurance\, profe
 ssional negligence\, and general commercial disputes.\n\nAnne is also freq
 uently briefed to appear in disciplinary proceedings in which she has appe
 ared for various regulators and for professionals such as doctors\, lawyer
 s and accountants. She regularly appears in coronial inquests for interest
 ed parties and witnesses\, as well as in the role of counsel assisting.\n\
 nPrior to coming to the Bar\, Anne practised as a solicitor for 11 years.[
 /vc_column_text][/vc_column][/vc_row]
CATEGORIES:Scientific Meetings
LOCATION:Union University and Schools Club of Sydney (UUSC)\, 25 Bent St\, 
 Sydney\, NSW\, 2000\, Australia
GEO:-33.8650727;151.21129559999997
X-APPLE-STRUCTURED-LOCATION;VALUE=URI;X-ADDRESS=25 Bent St\, Sydney\, NSW\,
  2000\, Australia;X-APPLE-RADIUS=100;X-TITLE=Union University and Schools 
 Club of Sydney (UUSC):geo:-33.8650727,151.21129559999997
END:VEVENT
BEGIN:VTIMEZONE
TZID:Australia/Sydney
X-LIC-LOCATION:Australia/Sydney
BEGIN:DAYLIGHT
DTSTART:20201004T030000
TZOFFSETFROM:+1000
TZOFFSETTO:+1100
TZNAME:AEDT
END:DAYLIGHT
END:VTIMEZONE
END:VCALENDAR